BEGIN:VCALENDAR
VERSION:2.0
PRODID:-//ExpressionEngine Easy iCalendar plugin//NONSGML v2.0.1//EN
X-WR-TIMEZONE:America/New_York
X-WR-CALNAME:Upcoming Auctions
BEGIN:VEVENT
UID:161071
DTSTAMP:20260530T100000
DTSTART:20260530T100000
DTEND:20260530T110000
SUMMARY:JAGGER MAY 2026 EQUIPMENT CONSIGNMENT
LOCATION:{location}
DESCRIPTION:LIVE PUBLIC CONSIGNMENT AUCTION TRACTORS-EQUIPMENT-TRAILERS-
 ATTACHMENTS-VEHICLES (Accepting equipment consignments until
  FRIDAY\; MAY 22nd @ 4:30 PM) 2425 Johnstown Utica Rd NW Uti
 ca\, OH. 43080 (corner of SR 62 & SR 657) SALE DATE: Saturday
 \; MAY 30\, 2026 @ 10:00 AM BID IN PERSON OR ONLINE.   BIDDIN
 G TURNS TO SIMULCAST AUCTION: Saturday\; MAY 30TH  @ 10:00 A
 M Online bidding turns into a live auction with the ability 
 to bid in person or online. There is no guarantee that the o
 nline portion will not have a delay. ONLINE BUYER PICK UP DA
 TE: MONDAY\;  JUNE 1st  9:00 AM - 5:00 PM or By Appointment
  no later than FRIDAY\; JUNE 5th @ 4:30 PM. Payment must be 
 made prior to removal of items and no Later than Monday\; Jun
 e 1st @ 5:00 PM PICK UP LOCATION: 2425 Johnstown Utica Rd NW
     Utica\, OH. 43080. AUCTION TERMS: All items sell in th
 e AS-IS condition with no warranties or guarantees by the Se
 ller or the Auctioneer. All sales are final. Jagger Auctione
 ers has not tested any of these items unless stated as such 
 in the description. Buyer is responsible for previewing item
 s to make sure the condition is what they want prior to plac
 ing a bid. Titles will be mailed within 30 days of payment. 
 There is a $50 per title fee charged to the buyer.  Buyer s
 hall at their own risks be responsible for removal of items 
 and also be responsible for any damage to building or ground
 s during removal. We will assist with loaders to load equipm
 ent but there is no mechanical assistance provided for remov
 ing parts or break down. Buyer agrees to hold harmless any d
 amage during load out. BUYER'S PREMIUM: 13% added to all win
 ning bids online and live. ADDITIONAL INTERNET PREMIUMS: 0% 
 Jagger\, 2% All Other Platforms SALES TAX ON APPLICABLE ITEMS
  UNLESS EXEMPTION ON FILE. BUYER PAYMENT TERMS: GOOD LOCAL C
 HECK\, CASH UP TO $10\,000\, CREDIT CARD UP TO $5\,000 w/ 3% con
 venience fee\, Invoices over $15k require wire transfer unles
 s check approved ahead of time\, PAYMENT CAN BE MADE ONLINE O
 R AT THE TIME OF PICKUP. OUT OF STATE BUYERS ARE REQUIRED TO
  PAY BY WIRE TRANSFER.
URL:https://www.jaggerauctioneers.com/auctions/detail/bw161071
SEQUENCE:1
END:VEVENT
END:VCALENDAR