BEGIN:VCALENDAR
VERSION:2.0
PRODID:-//ExpressionEngine Easy iCalendar plugin//NONSGML v2.0.1//EN
X-WR-TIMEZONE:America/New_York
X-WR-CALNAME:Upcoming Auctions
BEGIN:VEVENT
UID:160839
DTSTAMP:20260423T120000
DTSTART:20260423T120000
DTEND:20260503T200000
SUMMARY:NEWARK\, OH - FURNITURE-ANTIQUES-FLY FISHING
LOCATION:{location}
DESCRIPTION:ONLINE AUCTION – BID YOUR PRICE! WOODWORKING-FURNITURE-LAW
 N AND GARDEN-FLY FISHING 1323 Howell Dr. Newark\, OH. 43055 B
 IDDING BEGINS TO END SUNDAY\; May 3rd  @ 8:00PM PICKUP DATE
 : Monday\; May 4th   2:00-5:00 PM ONLINE ONLY auction. Go to
  bid.jaggerauctioneers.com to BID YOUR PRICE! GO TO THE APP 
 STORE AND SEARCH JAGGER AUCTIONEERS! Contact: Steve Jagger\, 
 Auctioneer (614)561-3327 steve@jaggerauctioneers.com
URL:https://www.jaggerauctioneers.com/auctions/detail/bw160839
SEQUENCE:1
END:VEVENT
END:VCALENDAR