BEGIN:VCALENDAR
VERSION:2.0
PRODID:-//ExpressionEngine Easy iCalendar plugin//NONSGML v2.0.0//EN
X-WR-TIMEZONE:America/New_York
X-WR-CALNAME:Upcoming Auctions
BEGIN:VEVENT
UID:144613
DTSTAMP:20250721T105900
DTSTART:20250721T105900
DTEND:20250727T200000
SUMMARY:62 ONLINE ONLY-WOODWORKING-TOOLS-MUCH MORE!
LOCATION:2425 Johnstown Utica Rd NW\, Utica\, OH 43080\, US
DESCRIPTION:ONLINE AUCTION – BID YOUR PRICE! FLOORING-WOODWORKING-TOOL
 S-MUCH MORE! 2425 Johnstown Utica Rd NW Utica\, Oh. 43080 BID
 DING BEGINS TO END Sunday\; July 27th @ 8:00PM PICKUP DATE: 
 Monday\; July 28th  9:00AM -5:00 PM
URL:https://www.jaggerauctioneers.com/auctions/detail/bw144613
SEQUENCE:1
END:VEVENT
END:VCALENDAR