BEGIN:VCALENDAR
VERSION:2.0
PRODID:-//ExpressionEngine Easy iCalendar plugin//NONSGML v2.0.0//EN
X-WR-TIMEZONE:America/New_York
X-WR-CALNAME:Upcoming Auctions
BEGIN:VEVENT
UID:139955
DTSTAMP:20250521T160200
DTSTART:20250521T160200
DTEND:20250527T200000
SUMMARY:WALL ST- TOOLS-FURNITURE-HOUSEHOLD
LOCATION:4057 Wall St Road \, Centerburg\, OH 43011\, US
DESCRIPTION:ONLINE AUCTION â€“ BID YOUR PRICE! TOOLS-FURNITURE & MORE 40
 57 Wall St Road Centerburg\, OH. 43011 BIDDING BEGINS TO END 
 Tuesday\; May 27th @ 8:00PM PICKUP DATE: Wednesday\; May 28thÂ
   3:00-5:00 PM
URL:https://www.jaggerauctioneers.com/auctions/detail/bw139955
SEQUENCE:1
END:VEVENT
END:VCALENDAR